BEGIN:VCALENDAR
VERSION:2.0
PRODID:-//wp-events-plugin.com//7.2.3.1//EN
TZID:Europe/London
X-WR-TIMEZONE:Europe/London
BEGIN:VEVENT
UID:62@catmhs.org.uk
DTSTART;TZID=Europe/London:20260426T100000
DTEND;TZID=Europe/London:20260426T160000
DTSTAMP:20260111T195851Z
URL:https://www.catmhs.org.uk/events/smallcleugh-flats-nenthead-26th-april
 -at-1000/
SUMMARY:Smallcleugh Flats\, Nenthead 26th April at 10:00
DESCRIPTION:\nA meet to the famous flats at this large lead and zinc mine\,
  so much to see of these very impressive workings….\n\nThe trip will tak
 e us on an underground circular route of this Nenthead mine walking throug
 h multiple flats with some very short sections of restricted roof height a
 nd very short fixed ladders. There are some short sections of shallow wate
 r however the majority of it will be extremely dry with a constant tempera
 ture of around 8 degrees.\nIt is an ideal trip to attend as a new member o
 r if you are keen on a relatively easy but rewarding day out. There will b
 e a half way break included (bring your sandwiches) and you should expect 
 to be underground for around 4-5 hours.\n\nIt is imperative you have the f
 ollowing kit when attending this trip:\n\nMandatory:\n\nHelmet complete wi
 th chin strap\nHead torch capable of providing at least 8 hours of light\n
 Warm clothing including a boiler suit or under suit and over suit\nA water
 proof jacket should the weather require it (Nenthead is 1500 foot above se
 a level)\nSteel toe caps/Welly boots/boots with ankle support.\nA pair of 
 gloves (Rigger Gloves are ideal)\nFood and Water bearing in mind the mine 
 is extremely dry in parts and you will be\nunderground for up to 5 hours.\
 nA small pack to carry the above in\nOptional:\nKnee Pads (Short sections 
 where may wish to use hands and knees)\nThe parking and meeting point for 
 this trip will be at the ‘Smelt Mill’ car park at Nenthead mines\, thi
 s is reached by going into the main car park at Nenthead Mines (CA9 3NY) t
 hen following the track out the back of it along the side of the river unt
 il you come to a set of double gates on the right\, please enter and park 
 here.\nWhat 3 Words address for parking is: audibly.arching.masses\n\nPlea
 se arrive with a view that we will be setting off from the Smelt Mill Car 
 Park/Assay House to the level entrance around 10:00\nAny updates to this t
 rip including cancellation due to weather will be posted in the comments b
 elow\nFor further information about Nenthead visit: https://www.nentheadm
 ines.com/\n\nIf you have any queries about this trip\, please contact Chri
 s Bunker on 07771 983665 chrisbunker@btinternet.com
ATTACH;FMTTYPE=image/jpeg:https://www.catmhs.org.uk/wp-content/uploads/202
 4/01/picture10.jpg
CATEGORIES:Underground meet
LOCATION:Nenthead Smelting Mill\, Nenthead Mines\, Nenthead\, CA9 3NY\, Uni
 ted Kingdom
X-APPLE-STRUCTURED-LOCATION;VALUE=URI;X-ADDRESS=Nenthead Mines\, Nenthead\,
  CA9 3NY\, United Kingdom;X-APPLE-RADIUS=100;X-TITLE=Nenthead Smelting Mil
 l:geo:0,0
END:VEVENT
BEGIN:VTIMEZONE
TZID:Europe/London
X-LIC-LOCATION:Europe/London
BEGIN:DAYLIGHT
DTSTART:20260329T020000
TZOFFSETFROM:+0000
TZOFFSETTO:+0100
TZNAME:BST
END:DAYLIGHT
END:VTIMEZONE
END:VCALENDAR