BEGIN:VCALENDAR
VERSION:2.0
PRODID:-//wp-events-plugin.com//7.2.3.1//EN
TZID:Europe/London
X-WR-TIMEZONE:Europe/London
BEGIN:VEVENT
UID:47@catmhs.org.uk
DTSTART;TZID=Europe/London:20250726T110000
DTEND;TZID=Europe/London:20250726T170000
DTSTAMP:20250328T185057Z
URL:https://www.catmhs.org.uk/events/snailbeach-mine-srt/
SUMMARY:Snailbeach Mine SRT
DESCRIPTION:Snailbeach mine at the peak of production during the 19th centu
 ry was reputed to be extracting the largest volume of lead per acre in Eur
 ope. Shropshire Caving and Mining Club will lead us on an underground SRT 
 trip to 40 Yard from Perkins Level - 3-4 relatively short pitchs (20m max)
 \, mostly sloping with a few deviations. No complicated rebelays. Possibil
 ity of a scenic route back up by slightly more exposed route . Can return 
 by original route too.\nOnce on 40 Yard chance to walk out to Chapel shaft
  inset and out towards Black Tom. Back on Perkins can look at various stop
 es\, plus some short SRT routes in top stope.\n\nPlenty of photo opportuni
 ties. Can stay dry with wellies\, occasionally just over.\n
ATTACH;FMTTYPE=image/jpeg:https://www.catmhs.org.uk/wp-content/uploads/202
 5/03/Snailbeach-3.jpg
CATEGORIES:Underground meet
LOCATION:Snailbeach Mine\, Nr Shrewsbury\, Shropshire\, United Kingdom
X-APPLE-STRUCTURED-LOCATION;VALUE=URI;X-ADDRESS=Nr Shrewsbury\, Shropshire\
 , United Kingdom;X-APPLE-RADIUS=100;X-TITLE=Snailbeach Mine:geo:0,0
END:VEVENT
BEGIN:VTIMEZONE
TZID:Europe/London
X-LIC-LOCATION:Europe/London
BEGIN:DAYLIGHT
DTSTART:20250330T020000
TZOFFSETFROM:+0000
TZOFFSETTO:+0100
TZNAME:BST
END:DAYLIGHT
END:VTIMEZONE
END:VCALENDAR